BEGIN:VCALENDAR
VERSION:2.0
PRODID:-//Tukios.com/
BEGIN:VEVENT
UID:be703a8f-b496-470b-b83b-f339ce3b220a@www.weigelfuneral.com
DTSTAMP:20260424T022339Z
DTSTART:20260426T210000Z
DTEND:20260426T220000Z
SUMMARY:Memorial Service
DESCRIPTION:
URL:https://www.weigelfuneral.com/obituaries/jeremiah-kramer
LOCATION:Weigel Funeral Home 309 4th Ave. NW  Mandan ND 58554
GEO:46.8282695;-100.89696
END:VEVENT
END:VCALENDAR