BEGIN:VCALENDAR
VERSION:2.0
PRODID:-//Tukios.com/
BEGIN:VEVENT
UID:9650c05c-6369-46e9-ba4d-477ff9645f64@www.weigelfuneral.com
DTSTAMP:20260423T025842Z
DTSTART:20260428T170000Z
DTEND:20260428T171500Z
SUMMARY:Graveside Service
DESCRIPTION:
URL:https://www.weigelfuneral.com/obituaries/hubert-vandeberg
LOCATION: 1825 46th St  Mandan ND 58554
GEO:46.7508511;-100.8502503
END:VEVENT
END:VCALENDAR