BEGIN:VCALENDAR
VERSION:2.0
PRODID:-//Tukios.com/
BEGIN:VEVENT
UID:1bf10a5a-e8c4-4208-b6d5-6c7c52817eb1@www.weigelfuneral.com
DTSTAMP:20260423T030006Z
DTSTART:20260427T210000Z
DTEND:20260427T230000Z
SUMMARY:Visitation
DESCRIPTION:
URL:https://www.weigelfuneral.com/obituaries/hubert-vandeberg
LOCATION:Weigel Funeral Home 309 4th Ave. NW  Mandan ND 58554
GEO:46.8282695;-100.89696
END:VEVENT
END:VCALENDAR