BEGIN:VCALENDAR
VERSION:2.0
PRODID:-//Tukios.com/
BEGIN:VEVENT
UID:1d347a47-0c9b-4989-ba1a-e50703a66b96@www.weigelfuneral.com
DTSTAMP:20260423T025858Z
DTSTART:20260428T153000Z
DTEND:20260428T163000Z
SUMMARY:Mass
DESCRIPTION:
URL:https://www.weigelfuneral.com/obituaries/hubert-vandeberg
LOCATION:Spirit of Life Catholic Church 801 1st St SE  Mandan ND 58554
GEO:46.8226967;-100.8794931
END:VEVENT
END:VCALENDAR